BEGIN:VCALENDAR
METHOD:PUBLISH
VERSION:2.0
PRODID:-//Eventilla iCal Syndication//NONSGML Liana//EN
BEGIN:VEVENT
UID:wJXlR@eventilla.com
DTSTAMP:20230130T130000Z
DTSTART:20230130T130000Z
DTEND:20230130T140000Z
SUMMARY:Kesäkeitaan ravintolahaun infotilaisuus 2023
DESCRIPTION:Kesäkeitaan ravintolatoimijahaun infotilaisuus 2023. Tilaisuudessa on mahdollisuus esittää Tampereen kaupungin edustajille kysymyksiä Kesäkeitaaseen sekä ravintolahakuun liittyen. \nLinkki tilaisuuteen toimitetaan viimeisen ilmoittautumispäivän  29.1.2023 jälkeen. 
LOCATION:
URL:http://tilaisuudet.tampere.fi/kesakeidasinfo2023
END:VEVENT
END:VCALENDAR
